Package: methylMnM Version: 1.49.0 Command: rm -rf methylMnM.buildbin-libdir && mkdir methylMnM.buildbin-libdir && /Users/biocbuild/BBS/utils/build-universal.sh methylMnM_1.49.0.tar.gz /Library/Frameworks/R.framework/Resources/bin/R methylMnM.buildbin-libdir StartedAt: 2025-11-21 01:42:32 -0500 (Fri, 21 Nov 2025) EndedAt: 2025-11-21 01:42:54 -0500 (Fri, 21 Nov 2025) EllapsedTime: 22.0 seconds RetCode: 0 Status: OK PackageFile: methylMnM_1.49.0.tgz PackageFileSize: 8.86 MiB