Package: methylMnM Version: 1.47.0 Command: /Library/Frameworks/R.framework/Resources/bin/R CMD INSTALL methylMnM StartedAt: 2025-10-09 15:02:33 -0400 (Thu, 09 Oct 2025) EndedAt: 2025-10-09 15:02:39 -0400 (Thu, 09 Oct 2025) EllapsedTime: 5.5 seconds RetCode: 0 Status: OK