Package: methylMnM Version: 1.47.0 Command: /Library/Frameworks/R.framework/Resources/bin/R CMD build --keep-empty-dirs --no-resave-data methylMnM StartedAt: 2025-10-10 16:58:54 -0400 (Fri, 10 Oct 2025) EndedAt: 2025-10-10 16:59:29 -0400 (Fri, 10 Oct 2025) EllapsedTime: 35.4 seconds RetCode: 0 Status: OK PackageFile: methylMnM_1.47.0.tar.gz PackageFileSize: 8.51 MiB