Package: methylMnM Version: 1.47.0 Command: rm -rf methylMnM.buildbin-libdir && mkdir methylMnM.buildbin-libdir && /Users/biocbuild/BBS/utils/build-universal.sh methylMnM_1.47.0.tar.gz /Library/Frameworks/R.framework/Resources/bin/R methylMnM.buildbin-libdir StartedAt: 2025-10-09 22:47:07 -0400 (Thu, 09 Oct 2025) EndedAt: 2025-10-09 22:47:14 -0400 (Thu, 09 Oct 2025) EllapsedTime: 7.1 seconds RetCode: 0 Status: OK PackageFile: methylMnM_1.47.0.tgz PackageFileSize: 8.86 MiB