Package: methylMnM Version: 1.49.0 Maintainer: Yan Zhou MaintainerEmail: zhouy1016 at 163.com git_url: https://git.bioconductor.org/packages/methylMnM git_branch: devel git_last_commit: 0c70661 git_last_commit_date: 2025-10-29 10:16:48 -0400 (Wed, 29 Oct 2025)