Package: methylKit Version: 1.35.1 Command: /home/biocbuild/bbs-3.22-bioc/R/bin/R CMD check --install=check:methylKit.install-out.txt --library=/home/biocbuild/bbs-3.22-bioc/R/site-library --timings methylKit_1.35.1.tar.gz StartedAt: 2025-10-15 01:39:25 -0400 (Wed, 15 Oct 2025) EndedAt: 2025-10-15 01:45:58 -0400 (Wed, 15 Oct 2025) EllapsedTime: 393.4 seconds RetCode: 0 Status: OK CheckDir: methylKit.Rcheck Warnings: 0