Package: methylKit Version: 1.37.0 Command: /home/biocbuild/bbs-3.23-bioc/R/bin/R CMD INSTALL methylKit StartedAt: 2025-11-05 15:33:35 -0500 (Wed, 05 Nov 2025) EndedAt: 2025-11-05 15:34:35 -0500 (Wed, 05 Nov 2025) EllapsedTime: 59.9 seconds RetCode: 0 Status: OK