Package: methylKit Version: 1.35.1 Maintainer: Altuna Akalin , Alexander Blume MaintainerEmail: alex.gos90 at gmail.com git_url: https://git.bioconductor.org/packages/methylKit git_branch: devel git_last_commit: 1c318c6 git_last_commit_date: 2025-07-23 12:42:12 -0400 (Wed, 23 Jul 2025)