Back to Build/check report for BioC 3.23:   simplified   long
ABCDEFGHIJKL[M]NOPQRSTUVWXYZ

This page was generated on 2025-11-05 11:32 -0500 (Wed, 05 Nov 2025).

HostnameOSArch (*)R versionInstalled pkgs
nebbiolo1Linux (Ubuntu 24.04.3 LTS)x86_64R Under development (unstable) (2025-10-20 r88955) -- "Unsuffered Consequences" 4818
Click on any hostname to see more info about the system (e.g. compilers)      (*) as reported by 'uname -p', except on Windows and Mac OS X

All results for package methylKit


To the developers/maintainers of the methylKit package:
- Allow up to 24 hours (and sometimes 48 hours) for your latest push to git@git.bioconductor.org:packages/methylKit.git to reflect on this report. See Troubleshooting Build Report for more information.
- Use the following Renviron settings to reproduce errors and warnings.
- If 'R CMD check' started to fail recently on the Linux builder(s) over a missing dependency, add the missing dependency to 'Suggests:' in your DESCRIPTION file. See Renviron.bioc for more information.

raw results

Package 1251/2323HostnameOS / ArchINSTALLBUILDCHECKBUILD BIN
methylKit 1.37.0  (landing page)
Altuna Akalin , Alexander Blume
Snapshot Date: 2025-11-04 13:40 -0500 (Tue, 04 Nov 2025)
git_url: https://git.bioconductor.org/packages/methylKit
git_branch: devel
git_last_commit: 1192e2b
git_last_commit_date: 2025-10-29 10:33:14 -0500 (Wed, 29 Oct 2025)
nebbiolo1Linux (Ubuntu 24.04.3 LTS) / x86_64  OK    OK    OK  YES



Results for Bioconductor software packages that depend directly on package methylKit

QUICK STATSOS / ArchINSTALLBUILDCHECKBUILD BIN
nebbiolo1Linux (Ubuntu 24.04.3 LTS) / x86_64
003
003
0003
Package 1/3HostnameOS / ArchINSTALLBUILDCHECKBUILD BIN
deconvR 1.17.0  (landing page)
Irem B. Gündüz
git_last_commit: 25b6419
git_last_commit_date: 2025-10-29 11:13:19 -0500
nebbiolo1Linux (Ubuntu 24.04.3 LTS) / x86_64  OK    OK    OK  YES
Package 2/3HostnameOS / ArchINSTALLBUILDCHECKBUILD BIN
methInheritSim 1.33.0  (landing page)
Pascal Belleau
git_last_commit: 6ebe1c9
git_last_commit_date: 2025-10-29 10:38:50 -0500
nebbiolo1Linux (Ubuntu 24.04.3 LTS) / x86_64  OK    OK    OK  YES
Package 3/3HostnameOS / ArchINSTALLBUILDCHECKBUILD BIN
methylInheritance 1.35.0  (landing page)
Astrid Deschênes
git_last_commit: ffbee45
git_last_commit_date: 2025-10-29 10:38:16 -0500
nebbiolo1Linux (Ubuntu 24.04.3 LTS) / x86_64  OK    OK    OK  YES