Package: methylInheritance Version: 1.33.1 Command: /home/biocbuild/R/R/bin/R CMD check --install=check:methylInheritance.install-out.txt --library=/home/biocbuild/R/R/site-library --no-vignettes --timings methylInheritance_1.33.1.tar.gz StartedAt: 2025-10-17 10:55:29 -0000 (Fri, 17 Oct 2025) EndedAt: 2025-10-17 11:07:11 -0000 (Fri, 17 Oct 2025) EllapsedTime: 701.6 seconds RetCode: 0 Status: OK CheckDir: methylInheritance.Rcheck Warnings: 0