Package: methylInheritance Version: 1.35.0 Command: /home/biocbuild/bbs-3.23-bioc/R/bin/R CMD INSTALL methylInheritance StartedAt: 2025-11-06 15:28:10 -0500 (Thu, 06 Nov 2025) EndedAt: 2025-11-06 15:28:48 -0500 (Thu, 06 Nov 2025) EllapsedTime: 38.8 seconds RetCode: 0 Status: OK