Package: methylInheritance Version: 1.35.0 Command: /home/biocbuild/bbs-3.23-bioc/R/bin/R CMD build --keep-empty-dirs --no-resave-data methylInheritance StartedAt: 2025-11-06 18:30:29 -0500 (Thu, 06 Nov 2025) EndedAt: 2025-11-06 18:31:52 -0500 (Thu, 06 Nov 2025) EllapsedTime: 83.0 seconds RetCode: 0 Status: OK PackageFile: methylInheritance_1.35.0.tar.gz PackageFileSize: 1.71 MiB