Package: methylInheritance Version: 1.33.1 Command: /Library/Frameworks/R.framework/Resources/bin/R CMD check --install=check:methylInheritance.install-out.txt --library=/Library/Frameworks/R.framework/Resources/library --no-vignettes --timings methylInheritance_1.33.1.tar.gz StartedAt: 2025-10-15 23:30:04 -0400 (Wed, 15 Oct 2025) EndedAt: 2025-10-15 23:39:58 -0400 (Wed, 15 Oct 2025) EllapsedTime: 593.5 seconds RetCode: 0 Status: OK CheckDir: methylInheritance.Rcheck Warnings: 0