Package: methylGSA Version: 1.29.0 Command: /home/biocbuild/bbs-3.23-bioc/R/bin/R CMD build --keep-empty-dirs --no-resave-data methylGSA StartedAt: 2025-11-05 18:36:45 -0500 (Wed, 05 Nov 2025) EndedAt: 2025-11-05 18:38:34 -0500 (Wed, 05 Nov 2025) EllapsedTime: 109.0 seconds RetCode: 0 Status: OK PackageFile: methylGSA_1.29.0.tar.gz PackageFileSize: 3.143 MiB