Package: methylGSA Version: 1.27.0 Command: /Library/Frameworks/R.framework/Resources/bin/R CMD build --keep-empty-dirs --no-resave-data methylGSA StartedAt: 2025-10-14 17:56:59 -0400 (Tue, 14 Oct 2025) EndedAt: 2025-10-14 17:59:49 -0400 (Tue, 14 Oct 2025) EllapsedTime: 169.7 seconds RetCode: 0 Status: OK PackageFile: methylGSA_1.27.0.tar.gz PackageFileSize: 3.151 MiB