Package: methylGSA Version: 1.27.0 Command: /Library/Frameworks/R.framework/Resources/bin/R CMD INSTALL methylGSA StartedAt: 2025-10-03 15:34:16 -0400 (Fri, 03 Oct 2025) EndedAt: 2025-10-03 15:34:32 -0400 (Fri, 03 Oct 2025) EllapsedTime: 16.6 seconds RetCode: 0 Status: OK