Package: methylGSA Version: 1.27.0 Command: /Library/Frameworks/R.framework/Resources/bin/R CMD build --keep-empty-dirs --no-resave-data methylGSA StartedAt: 2025-10-03 16:57:18 -0400 (Fri, 03 Oct 2025) EndedAt: 2025-10-03 16:58:09 -0400 (Fri, 03 Oct 2025) EllapsedTime: 51.5 seconds RetCode: 0 Status: OK PackageFile: methylGSA_1.27.0.tar.gz PackageFileSize: 3.151 MiB