Package: methylGSA Version: 1.27.0 Command: rm -rf methylGSA.buildbin-libdir && mkdir methylGSA.buildbin-libdir && /Users/biocbuild/BBS/utils/build-universal.sh methylGSA_1.27.0.tar.gz /Library/Frameworks/R.framework/Resources/bin/R methylGSA.buildbin-libdir StartedAt: 2025-10-03 22:45:35 -0400 (Fri, 03 Oct 2025) EndedAt: 2025-10-03 22:45:57 -0400 (Fri, 03 Oct 2025) EllapsedTime: 22.4 seconds RetCode: 0 Status: OK PackageFile: methylGSA_1.27.0.tgz PackageFileSize: 3.2 MiB