Package: methylCC Version: 1.25.0 Command: /home/biocbuild/bbs-3.23-bioc/R/bin/R CMD INSTALL methylCC StartedAt: 2025-11-05 15:52:44 -0500 (Wed, 05 Nov 2025) EndedAt: 2025-11-05 15:53:34 -0500 (Wed, 05 Nov 2025) EllapsedTime: 50.6 seconds RetCode: 0 Status: OK