Package: methylCC Version: 1.25.0 Command: /home/biocbuild/bbs-3.23-bioc/R/bin/R CMD build --keep-empty-dirs --no-resave-data methylCC StartedAt: 2025-11-05 18:36:04 -0500 (Wed, 05 Nov 2025) EndedAt: 2025-11-05 18:39:33 -0500 (Wed, 05 Nov 2025) EllapsedTime: 209.1 seconds RetCode: 0 Status: OK PackageFile: methylCC_1.25.0.tar.gz PackageFileSize: 4.374 MiB