Package: methylCC Version: 1.23.0 Command: /Library/Frameworks/R.framework/Resources/bin/R CMD INSTALL methylCC StartedAt: 2025-10-16 16:07:12 -0400 (Thu, 16 Oct 2025) EndedAt: 2025-10-16 16:08:21 -0400 (Thu, 16 Oct 2025) EllapsedTime: 69.2 seconds RetCode: 0 Status: OK