Package: methylCC Version: 1.23.0 Command: /Library/Frameworks/R.framework/Resources/bin/R CMD build --keep-empty-dirs --no-resave-data methylCC StartedAt: 2025-10-17 18:00:46 -0400 (Fri, 17 Oct 2025) EndedAt: 2025-10-17 18:06:42 -0400 (Fri, 17 Oct 2025) EllapsedTime: 356.3 seconds RetCode: 0 Status: OK PackageFile: methylCC_1.23.0.tar.gz PackageFileSize: 4.378 MiB