Package: methylCC Version: 1.23.0 Command: rm -rf methylCC.buildbin-libdir && mkdir methylCC.buildbin-libdir && /Users/biocbuild/BBS/utils/build-universal.sh methylCC_1.23.0.tar.gz /Library/Frameworks/R.framework/Resources/bin/R methylCC.buildbin-libdir StartedAt: 2025-10-17 03:59:23 -0400 (Fri, 17 Oct 2025) EndedAt: 2025-10-17 04:00:38 -0400 (Fri, 17 Oct 2025) EllapsedTime: 74.8 seconds RetCode: 0 Status: OK PackageFile: methylCC_1.23.0.tgz PackageFileSize: 4.715 MiB