Package: methylCC Version: 1.23.0 Command: /Library/Frameworks/R.framework/Resources/bin/R CMD INSTALL methylCC StartedAt: 2025-10-06 15:24:00 -0400 (Mon, 06 Oct 2025) EndedAt: 2025-10-06 15:24:20 -0400 (Mon, 06 Oct 2025) EllapsedTime: 20.9 seconds RetCode: 0 Status: OK