Package: methylCC Version: 1.23.0 Command: /Library/Frameworks/R.framework/Resources/bin/R CMD build --keep-empty-dirs --no-resave-data methylCC StartedAt: 2025-10-05 17:00:03 -0400 (Sun, 05 Oct 2025) EndedAt: 2025-10-05 17:01:40 -0400 (Sun, 05 Oct 2025) EllapsedTime: 97.1 seconds RetCode: 0 Status: OK PackageFile: methylCC_1.23.0.tar.gz PackageFileSize: 4.378 MiB