Package: methylCC Version: 1.23.0 Command: rm -rf methylCC.buildbin-libdir && mkdir methylCC.buildbin-libdir && /Users/biocbuild/BBS/utils/build-universal.sh methylCC_1.23.0.tar.gz /Library/Frameworks/R.framework/Resources/bin/R methylCC.buildbin-libdir StartedAt: 2025-10-06 22:50:14 -0400 (Mon, 06 Oct 2025) EndedAt: 2025-10-06 22:50:35 -0400 (Mon, 06 Oct 2025) EllapsedTime: 21.4 seconds RetCode: 0 Status: OK PackageFile: methylCC_1.23.0.tgz PackageFileSize: 4.716 MiB