Package: methyLImp2 Version: 1.7.0 Command: /home/biocbuild/bbs-3.23-bioc/R/bin/R CMD build --keep-empty-dirs --no-resave-data methyLImp2 StartedAt: 2025-11-05 18:36:48 -0500 (Wed, 05 Nov 2025) EndedAt: 2025-11-05 18:37:38 -0500 (Wed, 05 Nov 2025) EllapsedTime: 50.0 seconds RetCode: 0 Status: OK PackageFile: methyLImp2_1.7.0.tar.gz PackageFileSize: 1.261 MiB