Package: methyLImp2 Version: 1.5.0 Command: /Library/Frameworks/R.framework/Resources/bin/R CMD INSTALL methyLImp2 StartedAt: 2025-09-30 15:18:08 -0400 (Tue, 30 Sep 2025) EndedAt: 2025-09-30 15:18:16 -0400 (Tue, 30 Sep 2025) EllapsedTime: 7.9 seconds RetCode: 0 Status: OK