Package: methyLImp2 Version: 1.5.0 Command: /Library/Frameworks/R.framework/Resources/bin/R CMD build --keep-empty-dirs --no-resave-data methyLImp2 StartedAt: 2025-09-30 16:58:00 -0400 (Tue, 30 Sep 2025) EndedAt: 2025-09-30 16:58:26 -0400 (Tue, 30 Sep 2025) EllapsedTime: 26.3 seconds RetCode: 0 Status: OK PackageFile: methyLImp2_1.5.0.tar.gz PackageFileSize: 1.261 MiB