Package: methrix Version: 1.23.1 Command: /home/biocbuild/R/R/bin/R CMD INSTALL methrix StartedAt: 2025-09-29 21:14:02 -0000 (Mon, 29 Sep 2025) EndedAt: 2025-09-29 21:14:56 -0000 (Mon, 29 Sep 2025) EllapsedTime: 54.2 seconds RetCode: 0 Status: OK