Package: methrix Version: 1.23.1 Command: /home/biocbuild/R/R/bin/R CMD build --keep-empty-dirs --no-resave-data methrix StartedAt: 2025-09-30 01:16:29 -0000 (Tue, 30 Sep 2025) EndedAt: 2025-09-30 01:20:41 -0000 (Tue, 30 Sep 2025) EllapsedTime: 252.1 seconds RetCode: 0 Status: OK PackageFile: methrix_1.23.1.tar.gz PackageFileSize: 3.904 MiB