Package: methrix Version: 1.25.0 Command: /home/biocbuild/bbs-3.23-bioc/R/bin/R CMD check --install=check:methrix.install-out.txt --library=/home/biocbuild/bbs-3.23-bioc/R/site-library --timings methrix_1.25.0.tar.gz StartedAt: 2025-11-06 01:09:10 -0500 (Thu, 06 Nov 2025) EndedAt: 2025-11-06 01:17:50 -0500 (Thu, 06 Nov 2025) EllapsedTime: 520.5 seconds RetCode: 0 Status: OK CheckDir: methrix.Rcheck Warnings: 0