Package: methodical Version: 1.5.0 Command: /home/biocbuild/R/R/bin/R CMD INSTALL methodical StartedAt: 2025-10-09 21:47:56 -0000 (Thu, 09 Oct 2025) EndedAt: 2025-10-09 21:48:48 -0000 (Thu, 09 Oct 2025) EllapsedTime: 52.8 seconds RetCode: 0 Status: OK