Package: methodical Version: 1.5.0 Command: /home/biocbuild/R/R/bin/R CMD build --keep-empty-dirs --no-resave-data methodical StartedAt: 2025-10-10 01:57:28 -0000 (Fri, 10 Oct 2025) EndedAt: 2025-10-10 02:00:30 -0000 (Fri, 10 Oct 2025) EllapsedTime: 181.1 seconds RetCode: 1 Status: ERROR PackageFile: None PackageFileSize: NA