Package: methodical Version: 1.7.0 Command: /home/biocbuild/bbs-3.23-bioc/R/bin/R CMD INSTALL methodical StartedAt: 2025-11-05 15:49:58 -0500 (Wed, 05 Nov 2025) EndedAt: 2025-11-05 15:50:39 -0500 (Wed, 05 Nov 2025) EllapsedTime: 41.4 seconds RetCode: 0 Status: OK