Package: methodical Version: 1.7.0 Command: /home/biocbuild/bbs-3.23-bioc/R/bin/R CMD check --install=check:methodical.install-out.txt --library=/home/biocbuild/bbs-3.23-bioc/R/site-library --timings methodical_1.7.0.tar.gz StartedAt: 2025-11-07 00:58:02 -0500 (Fri, 07 Nov 2025) EndedAt: 2025-11-07 01:23:00 -0500 (Fri, 07 Nov 2025) EllapsedTime: 1498.7 seconds RetCode: 0 Status: WARNINGS CheckDir: methodical.Rcheck Warnings: 2