Package: methimpute Version: 1.33.0 Command: /home/biocbuild/bbs-3.23-bioc/R/bin/R CMD build --keep-empty-dirs --no-resave-data methimpute StartedAt: 2025-11-06 18:27:39 -0500 (Thu, 06 Nov 2025) EndedAt: 2025-11-06 18:29:43 -0500 (Thu, 06 Nov 2025) EllapsedTime: 124.1 seconds RetCode: 0 Status: OK PackageFile: methimpute_1.33.0.tar.gz PackageFileSize: 1.268 MiB