Package: methimpute Version: 1.31.0 Command: /Library/Frameworks/R.framework/Resources/bin/R CMD build --keep-empty-dirs --no-resave-data methimpute StartedAt: 2025-10-23 17:36:37 -0400 (Thu, 23 Oct 2025) EndedAt: 2025-10-23 17:38:58 -0400 (Thu, 23 Oct 2025) EllapsedTime: 140.2 seconds RetCode: 0 Status: OK PackageFile: methimpute_1.31.0.tar.gz PackageFileSize: 1.268 MiB