Package: methimpute Version: 1.31.0 Command: /Library/Frameworks/R.framework/Resources/bin/R CMD INSTALL methimpute StartedAt: 2025-10-12 15:10:31 -0400 (Sun, 12 Oct 2025) EndedAt: 2025-10-12 15:10:44 -0400 (Sun, 12 Oct 2025) EllapsedTime: 13.4 seconds RetCode: 0 Status: OK