Package: methimpute Version: 1.31.0 Command: /Library/Frameworks/R.framework/Resources/bin/R CMD build --keep-empty-dirs --no-resave-data methimpute StartedAt: 2025-10-12 16:54:06 -0400 (Sun, 12 Oct 2025) EndedAt: 2025-10-12 16:54:51 -0400 (Sun, 12 Oct 2025) EllapsedTime: 45.4 seconds RetCode: 0 Status: OK PackageFile: methimpute_1.31.0.tar.gz PackageFileSize: 1.268 MiB