Package: methimpute Version: 1.31.0 Command: rm -rf methimpute.buildbin-libdir && mkdir methimpute.buildbin-libdir && /Users/biocbuild/BBS/utils/build-universal.sh methimpute_1.31.0.tar.gz /Library/Frameworks/R.framework/Resources/bin/R methimpute.buildbin-libdir StartedAt: 2025-10-13 22:48:30 -0400 (Mon, 13 Oct 2025) EndedAt: 2025-10-13 22:48:45 -0400 (Mon, 13 Oct 2025) EllapsedTime: 14.3 seconds RetCode: 0 Status: OK PackageFile: methimpute_1.31.0.tgz PackageFileSize: 1.538 MiB