Package: methInheritSim Version: 1.31.1 Command: rm -rf methInheritSim.buildbin-libdir && mkdir methInheritSim.buildbin-libdir && F:\biocbuild\bbs-3.22-bioc\R\bin\R.exe CMD INSTALL --build --library=methInheritSim.buildbin-libdir methInheritSim_1.31.1.tar.gz StartedAt: 2025-08-15 10:40:14 -0400 (Fri, 15 Aug 2025) EndedAt: 2025-08-15 10:41:20 -0400 (Fri, 15 Aug 2025) EllapsedTime: 66.2 seconds RetCode: 0 Status: OK PackageFile: methInheritSim_1.31.1.zip PackageFileSize: 723.8 KiB