Package: methInheritSim Version: 1.31.1 Command: /Library/Frameworks/R.framework/Resources/bin/R CMD check --install=check:methInheritSim.install-out.txt --library=/Library/Frameworks/R.framework/Resources/library --no-vignettes --timings methInheritSim_1.31.1.tar.gz StartedAt: 2025-10-16 20:37:08 -0400 (Thu, 16 Oct 2025) EndedAt: 2025-10-16 20:39:10 -0400 (Thu, 16 Oct 2025) EllapsedTime: 121.4 seconds RetCode: 0 Status: OK CheckDir: methInheritSim.Rcheck Warnings: 0