Package: metaseqR2 Version: 1.23.0 Command: /home/biocbuild/bbs-3.23-bioc/R/bin/R CMD build --keep-empty-dirs --no-resave-data metaseqR2 StartedAt: 2025-11-05 18:34:35 -0500 (Wed, 05 Nov 2025) EndedAt: 2025-11-05 18:39:58 -0500 (Wed, 05 Nov 2025) EllapsedTime: 323.2 seconds RetCode: 0 Status: OK PackageFile: metaseqR2_1.23.0.tar.gz PackageFileSize: 2.679 MiB