Package: metaseqR2 Version: 1.21.2 Command: /Library/Frameworks/R.framework/Resources/bin/R CMD INSTALL metaseqR2 StartedAt: 2025-10-10 15:50:03 -0400 (Fri, 10 Oct 2025) EndedAt: 2025-10-10 15:51:49 -0400 (Fri, 10 Oct 2025) EllapsedTime: 105.6 seconds RetCode: 0 Status: OK