Package: metaseqR2 Version: 1.21.2 Command: /Library/Frameworks/R.framework/Resources/bin/R CMD build --keep-empty-dirs --no-resave-data metaseqR2 StartedAt: 2025-10-10 17:55:23 -0400 (Fri, 10 Oct 2025) EndedAt: 2025-10-10 18:03:31 -0400 (Fri, 10 Oct 2025) EllapsedTime: 488.5 seconds RetCode: 0 Status: OK PackageFile: metaseqR2_1.21.2.tar.gz PackageFileSize: 2.678 MiB