Package: metaseqR2 Version: 1.21.2 Command: rm -rf metaseqR2.buildbin-libdir && mkdir metaseqR2.buildbin-libdir && /Users/biocbuild/BBS/utils/build-universal.sh metaseqR2_1.21.2.tar.gz /Library/Frameworks/R.framework/Resources/bin/R metaseqR2.buildbin-libdir StartedAt: 2025-10-11 02:38:26 -0400 (Sat, 11 Oct 2025) EndedAt: 2025-10-11 02:40:19 -0400 (Sat, 11 Oct 2025) EllapsedTime: 113.3 seconds RetCode: 0 Status: OK PackageFile: metaseqR2_1.21.2.tgz PackageFileSize: 4.509 MiB