Package: metaseqR2 Version: 1.21.2 Maintainer: Panagiotis Moulos MaintainerEmail: moulos at fleming.gr git_url: https://git.bioconductor.org/packages/metaseqR2 git_branch: devel git_last_commit: 1e96df6 git_last_commit_date: 2025-10-10 10:26:16 -0400 (Fri, 10 Oct 2025)