Package: metapone Version: 1.17.0 Command: /home/biocbuild/bbs-3.23-bioc/R/bin/R CMD INSTALL metapone StartedAt: 2025-11-20 15:08:57 -0500 (Thu, 20 Nov 2025) EndedAt: 2025-11-20 15:09:21 -0500 (Thu, 20 Nov 2025) EllapsedTime: 23.8 seconds RetCode: 0 Status: OK