Package: metapone Version: 1.17.0 Command: /home/biocbuild/bbs-3.23-bioc/R/bin/R CMD build --keep-empty-dirs --no-resave-data metapone StartedAt: 2025-11-20 18:32:39 -0500 (Thu, 20 Nov 2025) EndedAt: 2025-11-20 18:42:04 -0500 (Thu, 20 Nov 2025) EllapsedTime: 564.4 seconds RetCode: 0 Status: OK PackageFile: metapone_1.17.0.tar.gz PackageFileSize: 3.743 MiB